BEGIN:VCALENDAR
VERSION:2.0
PRODID:-//The Pain Cave - ECPv6.15.20//NONSGML v1.0//EN
CALSCALE:GREGORIAN
METHOD:PUBLISH
X-ORIGINAL-URL:https://paincave.co.nz
X-WR-CALDESC:Events for The Pain Cave
REFRESH-INTERVAL;VALUE=DURATION:PT1H
X-Robots-Tag:noindex
X-PUBLISHED-TTL:PT1H
BEGIN:VTIMEZONE
TZID:Pacific/Auckland
BEGIN:STANDARD
TZOFFSETFROM:+1300
TZOFFSETTO:+1200
TZNAME:NZST
DTSTART:20240406T140000
END:STANDARD
BEGIN:DAYLIGHT
TZOFFSETFROM:+1200
TZOFFSETTO:+1300
TZNAME:NZDT
DTSTART:20240928T140000
END:DAYLIGHT
BEGIN:STANDARD
TZOFFSETFROM:+1300
TZOFFSETTO:+1200
TZNAME:NZST
DTSTART:20250405T140000
END:STANDARD
BEGIN:DAYLIGHT
TZOFFSETFROM:+1200
TZOFFSETTO:+1300
TZNAME:NZDT
DTSTART:20250927T140000
END:DAYLIGHT
BEGIN:STANDARD
TZOFFSETFROM:+1300
TZOFFSETTO:+1200
TZNAME:NZST
DTSTART:20260404T140000
END:STANDARD
BEGIN:DAYLIGHT
TZOFFSETFROM:+1200
TZOFFSETTO:+1300
TZNAME:NZDT
DTSTART:20260926T140000
END:DAYLIGHT
END:VTIMEZONE
BEGIN:VEVENT
DTSTART;TZID=Pacific/Auckland:20250222T000000
DTEND;TZID=Pacific/Auckland:20250222T235959
DTSTAMP:20260424T221319
CREATED:20240722T214049Z
LAST-MODIFIED:20240724T082654Z
UID:10000020-1740182400-1740268799@paincave.co.nz
SUMMARY:Old Ghost Ultra
DESCRIPTION:The Old Ghost Ultra is a creation of the not-for-profit Mokihinui-Lyell Backcountry Trust (MLBT) – the community group that built The Old Ghost Road. \nThe Old Ghost Ultra has been created for two principle purposes: \n1) To help introduce people to one of the most stunning and unheralded parts of New Zealand; and \n2) As a humble fundraiser towards our volunteer-led efforts to sustain The Old Ghost Road. \n\n\nOld Ghost UltraDistance85kmVert (m)2600Gradient3.2%GRADIENT FACTORBumpy
URL:https://paincave.co.nz/event/old-ghost-ultra/
LOCATION:Westport\, Westport\, West Coast\, New Zealand
CATEGORIES:Hilly,South Island,Ultra-Marathon,West Coast
ATTACH;FMTTYPE=image/jpeg:https://paincave.co.nz/wp-content/uploads/2024/07/OLD_GHOST_2019_010717.jpg
END:VEVENT
END:VCALENDAR