BEGIN:VCALENDAR
VERSION:2.0
PRODID:-//The Pain Cave - ECPv6.15.20//NONSGML v1.0//EN
CALSCALE:GREGORIAN
METHOD:PUBLISH
X-ORIGINAL-URL:https://paincave.co.nz
X-WR-CALDESC:Events for The Pain Cave
REFRESH-INTERVAL;VALUE=DURATION:PT1H
X-Robots-Tag:noindex
X-PUBLISHED-TTL:PT1H
BEGIN:VTIMEZONE
TZID:Pacific/Auckland
BEGIN:STANDARD
TZOFFSETFROM:+1300
TZOFFSETTO:+1200
TZNAME:NZST
DTSTART:20230401T140000
END:STANDARD
BEGIN:DAYLIGHT
TZOFFSETFROM:+1200
TZOFFSETTO:+1300
TZNAME:NZDT
DTSTART:20230923T140000
END:DAYLIGHT
BEGIN:STANDARD
TZOFFSETFROM:+1300
TZOFFSETTO:+1200
TZNAME:NZST
DTSTART:20240406T140000
END:STANDARD
BEGIN:DAYLIGHT
TZOFFSETFROM:+1200
TZOFFSETTO:+1300
TZNAME:NZDT
DTSTART:20240928T140000
END:DAYLIGHT
BEGIN:STANDARD
TZOFFSETFROM:+1300
TZOFFSETTO:+1200
TZNAME:NZST
DTSTART:20250405T140000
END:STANDARD
BEGIN:DAYLIGHT
TZOFFSETFROM:+1200
TZOFFSETTO:+1300
TZNAME:NZDT
DTSTART:20250927T140000
END:DAYLIGHT
END:VTIMEZONE
BEGIN:VEVENT
DTSTART;TZID=Pacific/Auckland:20241124T000000
DTEND;TZID=Pacific/Auckland:20241124T235959
DTSTAMP:20260420T063328
CREATED:20240727T223413Z
LAST-MODIFIED:20240727T223414Z
UID:10000082-1732406400-1732492799@paincave.co.nz
SUMMARY:Toi's Challenge
DESCRIPTION:Julians Berry Farm Toi’s Challenge is a multi-terrain 18km loop on the beautiful coastal Ngā Tapuwae o Toi (in the footsteps of Toi) track. The trail twists up and down steep coastal hills and along beautiful Otarawairere and Ohope Beaches\, through stunning bush and up and down hundreds of steps.Until the last dash to the finish line\, Toi’s remains unrelentingly hilly. We guarantee it will challenge you. But the inspirational signs and great camaraderie with other participants\, plus the juicy punnet of strawberries you’ll get at the finish thanks to Julians Berry Farm and Cafe\, should help keep you going.
URL:https://paincave.co.nz/event/tois-challenge/
LOCATION:Whakatane\, Whakatane\, New Zealand
CATEGORIES:Bay of Plenty,Hilly,North Island,Short Distance,Upper North Island
ATTACH;FMTTYPE=image/jpeg:https://paincave.co.nz/wp-content/uploads/2024/07/tois-otarawairere-0_orig.jpg
END:VEVENT
BEGIN:VEVENT
DTSTART;TZID=Pacific/Auckland:20241130T000000
DTEND;TZID=Pacific/Auckland:20241201T235959
DTSTAMP:20260420T063328
CREATED:20240727T225943Z
LAST-MODIFIED:20240727T225944Z
UID:10000083-1732924800-1733097599@paincave.co.nz
SUMMARY:Mighty Totara Backyard Ultra
DESCRIPTION:The mighty Totara tree\, a goliath of the New Zealand rainforest … \n\n\n\n… will watch over huge athletic performances in beautiful Totara Park as runners take on a scenic 6.7km loop … over and over again. Who will conquer the half\, full and ultra marathon distances? Which Relay Teams will prevail through 6 hour\, 12 hour and 24 hour challenges? And – above all – who will be the Last One Standing in the Backyard Ultra? \n\n\n\nBackyard Ultra / Last One StandingExperienced runners might consider a 6.7km run in under an hour to be a fairly easy effort. But how about doing it every hour\, on the hour … again and again … until there was no one left to run with? This is the Mighty Totara Backyard Ultra. If you’ve never heard of a “Backyard Ultra” before … prepare to be captivated by this fantastic new race format. All participants – starting together – have up to one hour to complete a 6.7km loop. If they complete it in time\, they rest\, recover\, then line up ready to do it again on the next hour. Over and over again. 
URL:https://paincave.co.nz/event/mighty-totara-backyard-ultra/
LOCATION:Totara Park\, Totara Park\, Manukau\, Auckland\, New Zealand
CATEGORIES:Auckland,Backyard Ultra,Flat,North Island,Upper North Island
ATTACH;FMTTYPE=image/jpeg:https://paincave.co.nz/wp-content/uploads/2024/07/totara.jpg
END:VEVENT
END:VCALENDAR